BEGIN:VCALENDAR
VERSION:2.0
PRODID:-//Nashua Child Learning Center - ECPv6.15.20//NONSGML v1.0//EN
CALSCALE:GREGORIAN
METHOD:PUBLISH
X-ORIGINAL-URL:https://nclckids.org
X-WR-CALDESC:Events for Nashua Child Learning Center
REFRESH-INTERVAL;VALUE=DURATION:PT1H
X-Robots-Tag:noindex
X-PUBLISHED-TTL:PT1H
BEGIN:VTIMEZONE
TZID:America/New_York
BEGIN:DAYLIGHT
TZOFFSETFROM:-0500
TZOFFSETTO:-0400
TZNAME:EDT
DTSTART:20170312T070000
END:DAYLIGHT
BEGIN:STANDARD
TZOFFSETFROM:-0400
TZOFFSETTO:-0500
TZNAME:EST
DTSTART:20171105T060000
END:STANDARD
BEGIN:DAYLIGHT
TZOFFSETFROM:-0500
TZOFFSETTO:-0400
TZNAME:EDT
DTSTART:20180311T070000
END:DAYLIGHT
BEGIN:STANDARD
TZOFFSETFROM:-0400
TZOFFSETTO:-0500
TZNAME:EST
DTSTART:20181104T060000
END:STANDARD
BEGIN:DAYLIGHT
TZOFFSETFROM:-0500
TZOFFSETTO:-0400
TZNAME:EDT
DTSTART:20190310T070000
END:DAYLIGHT
BEGIN:STANDARD
TZOFFSETFROM:-0400
TZOFFSETTO:-0500
TZNAME:EST
DTSTART:20191103T060000
END:STANDARD
END:VTIMEZONE
BEGIN:VEVENT
DTSTART;VALUE=DATE:20180904
DTEND;VALUE=DATE:20180905
DTSTAMP:20260419T213200
CREATED:20180509T102504Z
LAST-MODIFIED:20180509T102504Z
UID:2511-1536019200-1536105599@nclckids.org
SUMMARY:2018-2019 school year begins
DESCRIPTION:
URL:https://nclckids.org/event/2018-2019-school-year-begins/
END:VEVENT
BEGIN:VEVENT
DTSTART;VALUE=DATE:20180903
DTEND;VALUE=DATE:20180904
DTSTAMP:20260419T213200
CREATED:20180509T102323Z
LAST-MODIFIED:20180509T102323Z
UID:2507-1535932800-1536019199@nclckids.org
SUMMARY:Labor Day – NCLC closed
DESCRIPTION:
URL:https://nclckids.org/event/labor-day-nclc-closed/
END:VEVENT
BEGIN:VEVENT
DTSTART;VALUE=DATE:20180831
DTEND;VALUE=DATE:20180901
DTSTAMP:20260419T213200
CREATED:20180202T021705Z
LAST-MODIFIED:20180203T131106Z
UID:2367-1535673600-1535759999@nclckids.org
SUMMARY:Summer Camp ends
DESCRIPTION:
URL:https://nclckids.org/event/summer-camp-ends-3/
END:VEVENT
BEGIN:VEVENT
DTSTART;VALUE=DATE:20180828
DTEND;VALUE=DATE:20180829
DTSTAMP:20260419T213200
CREATED:20180509T102237Z
LAST-MODIFIED:20180509T102410Z
UID:2505-1535414400-1535500799@nclckids.org
SUMMARY:Open House for 2018-2019 school year
DESCRIPTION:
URL:https://nclckids.org/event/open-house-for-2018-2018-school-year/
END:VEVENT
BEGIN:VEVENT
DTSTART;VALUE=DATE:20180709
DTEND;VALUE=DATE:20180710
DTSTAMP:20260419T213200
CREATED:20180608T002910Z
LAST-MODIFIED:20180608T002910Z
UID:2533-1531094400-1531180799@nclckids.org
SUMMARY:Updated forms due for all 2018-2019 NCLC students
DESCRIPTION:
URL:https://nclckids.org/event/updated-forms-due-for-all-2018-2019-nclc-students/
END:VEVENT
BEGIN:VEVENT
DTSTART;VALUE=DATE:20180704
DTEND;VALUE=DATE:20180705
DTSTAMP:20260419T213200
CREATED:20180509T102154Z
LAST-MODIFIED:20180509T102429Z
UID:2503-1530662400-1530748799@nclckids.org
SUMMARY:Independence Day Holiday - NCLC Closed
DESCRIPTION:
URL:https://nclckids.org/event/independence-day-holiday-nclc-closed/
END:VEVENT
BEGIN:VEVENT
DTSTART;VALUE=DATE:20180618
DTEND;VALUE=DATE:20180619
DTSTAMP:20260419T213200
CREATED:20180202T021655Z
LAST-MODIFIED:20180203T131127Z
UID:2366-1529280000-1529366399@nclckids.org
SUMMARY:Summer Camp begins
DESCRIPTION:
URL:https://nclckids.org/event/summer-camp-beings/
END:VEVENT
BEGIN:VEVENT
DTSTART;VALUE=DATE:20180615
DTEND;VALUE=DATE:20180616
DTSTAMP:20260419T213200
CREATED:20180302T020949Z
LAST-MODIFIED:20180302T020949Z
UID:2443-1529020800-1529107199@nclckids.org
SUMMARY:Last day of school
DESCRIPTION:
URL:https://nclckids.org/event/last-day-school/
END:VEVENT
BEGIN:VEVENT
DTSTART;TZID=America/New_York:20180614T181500
DTEND;TZID=America/New_York:20180614T200000
DTSTAMP:20260419T213200
CREATED:20180509T102025Z
LAST-MODIFIED:20180509T102025Z
UID:2500-1529000100-1529006400@nclckids.org
SUMMARY:Progressive Pre-K Year-End Celebration/Kindergarten Graduation Ceremony
DESCRIPTION:6:15pm: Children to be dropped off in their classroom\n6:30 – 7:00pm: Formal program in Sanctuary\n7:00 – 8:00pm: Reception in Fellowship Hall
URL:https://nclckids.org/event/progressive-pre-k-year-end-celebration-kindergarten-graduation-ceremony/
END:VEVENT
BEGIN:VEVENT
DTSTART;VALUE=DATE:20180608
DTEND;VALUE=DATE:20180609
DTSTAMP:20260419T213200
CREATED:20180608T002732Z
LAST-MODIFIED:20180608T002757Z
UID:2531-1528416000-1528502399@nclckids.org
SUMMARY:Progressive Pre-K /Kindergarten year-end class trip
DESCRIPTION:Progressive Pre-K /Kindergarten year-end class trip to Charmingfare Farm
URL:https://nclckids.org/event/progressive-pre-k-kindergarten-year-end-class-trip/
END:VEVENT
BEGIN:VEVENT
DTSTART;VALUE=DATE:20180528
DTEND;VALUE=DATE:20180529
DTSTAMP:20260419T213200
CREATED:20180302T020743Z
LAST-MODIFIED:20180302T020743Z
UID:2439-1527465600-1527551999@nclckids.org
SUMMARY:Memorial Day
DESCRIPTION:NCLC closed
URL:https://nclckids.org/event/memorial-day-3/
END:VEVENT
BEGIN:VEVENT
DTSTART;VALUE=DATE:20180525
DTEND;VALUE=DATE:20180526
DTSTAMP:20260419T213200
CREATED:20180302T020914Z
LAST-MODIFIED:20180302T020914Z
UID:2441-1527206400-1527292799@nclckids.org
SUMMARY:“’Opt Out’ of Summer Program” fee due $150.00
DESCRIPTION:
URL:https://nclckids.org/event/opt-summer-program-fee-due-150-00/
END:VEVENT
BEGIN:VEVENT
DTSTART;VALUE=DATE:20180511
DTEND;VALUE=DATE:20180512
DTSTAMP:20260419T213200
CREATED:20180302T020647Z
LAST-MODIFIED:20180302T020647Z
UID:2437-1525996800-1526083199@nclckids.org
SUMMARY:Spring Portraits by Studio C
DESCRIPTION:
URL:https://nclckids.org/event/spring-portraits-studio-c/
END:VEVENT
BEGIN:VEVENT
DTSTART;VALUE=DATE:20180509
DTEND;VALUE=DATE:20180510
DTSTAMP:20260419T213200
CREATED:20180302T020614Z
LAST-MODIFIED:20180302T020614Z
UID:2435-1525824000-1525910399@nclckids.org
SUMMARY:Chapel
DESCRIPTION:
URL:https://nclckids.org/event/chapel-17/
END:VEVENT
BEGIN:VEVENT
DTSTART;VALUE=DATE:20180504
DTEND;VALUE=DATE:20180505
DTSTAMP:20260419T213200
CREATED:20180302T020530Z
LAST-MODIFIED:20180302T020530Z
UID:2433-1525392000-1525478399@nclckids.org
SUMMARY:Team Magic Show
DESCRIPTION:Students who do not attend NCLC on Fridays are welcome to attend with a parent or guardian
URL:https://nclckids.org/event/team-magic-show/
END:VEVENT
BEGIN:VEVENT
DTSTART;VALUE=DATE:20180423
DTEND;VALUE=DATE:20180428
DTSTAMP:20260419T213200
CREATED:20180302T020442Z
LAST-MODIFIED:20180302T020442Z
UID:2431-1524441600-1524873599@nclckids.org
SUMMARY:Spring Vacation
DESCRIPTION:Child Care Only (Look for sign-up in lobby)
URL:https://nclckids.org/event/spring-vacation-6/
END:VEVENT
BEGIN:VEVENT
DTSTART;TZID=America/New_York:20180405T100000
DTEND;TZID=America/New_York:20180405T110000
DTSTAMP:20260419T213200
CREATED:20180302T020255Z
LAST-MODIFIED:20180302T020320Z
UID:2427-1522922400-1522926000@nclckids.org
SUMMARY:Li'l Iguana Safety Presentation
DESCRIPTION:Students who do not attend NCLC on Thursdays are welcome to attend with a parent or guardian
URL:https://nclckids.org/event/lil-iguana-safety-presentation/
LOCATION:Fellowship Hall
END:VEVENT
BEGIN:VEVENT
DTSTART;TZID=America/New_York:20180401T100000
DTEND;TZID=America/New_York:20180401T100000
DTSTAMP:20260419T213200
CREATED:20180202T021710Z
LAST-MODIFIED:20180203T133131Z
UID:2373-1522576800-1522576800@nclckids.org
SUMMARY:Easter Sunday Service
DESCRIPTION:
URL:https://nclckids.org/event/easter-sunday-service/
LOCATION:Nashua High North\, 8 Titan Way\, Nashua\, NH\, 03063\, United States
END:VEVENT
BEGIN:VEVENT
DTSTART;TZID=America/New_York:20180331T090000
DTEND;TZID=America/New_York:20180331T110000
DTSTAMP:20260419T213200
CREATED:20180302T021805Z
LAST-MODIFIED:20180302T021805Z
UID:2451-1522486800-1522494000@nclckids.org
SUMMARY:Prayer Walk
DESCRIPTION:
URL:https://nclckids.org/event/prayer-walk/
LOCATION:Nashua High North\, 8 Titan Way\, Nashua\, NH\, 03063\, United States
END:VEVENT
BEGIN:VEVENT
DTSTART;TZID=America/New_York:20180330T120000
DTEND;TZID=America/New_York:20180330T133000
DTSTAMP:20260419T213200
CREATED:20180202T021710Z
LAST-MODIFIED:20180302T021935Z
UID:2372-1522411200-1522416600@nclckids.org
SUMMARY:Good Friday Service
DESCRIPTION:
URL:https://nclckids.org/event/good-friday-service/
LOCATION:Fellowship Hall
END:VEVENT
BEGIN:VEVENT
DTSTART;TZID=America/New_York:20180329T183000
DTEND;TZID=America/New_York:20180329T200000
DTSTAMP:20260419T213200
CREATED:20180302T021252Z
LAST-MODIFIED:20180302T021308Z
UID:2447-1522348200-1522353600@nclckids.org
SUMMARY:Maundy Thursday Service
DESCRIPTION:
URL:https://nclckids.org/event/maundy-thursday-service-2/
LOCATION:The Sanctuary
END:VEVENT
BEGIN:VEVENT
DTSTART;TZID=America/New_York:20180325T090000
DTEND;TZID=America/New_York:20180325T120000
DTSTAMP:20260419T213200
CREATED:20180302T021159Z
LAST-MODIFIED:20180302T021359Z
UID:2445-1521968400-1521979200@nclckids.org
SUMMARY:Palm Sunday Services
DESCRIPTION:Services at 9am and 10:30am with classes for children at the same times
URL:https://nclckids.org/event/palm-sunday-services/
LOCATION:The Sanctuary
END:VEVENT
BEGIN:VEVENT
DTSTART;TZID=America/New_York:20180324T120000
DTEND;TZID=America/New_York:20180324T120000
DTSTAMP:20260419T213200
CREATED:20180202T021707Z
LAST-MODIFIED:20180202T021707Z
UID:2368-1521892800-1521892800@nclckids.org
SUMMARY:Easter Egg Hunt
DESCRIPTION:
URL:https://nclckids.org/event/easter-egg-hunt/
END:VEVENT
BEGIN:VEVENT
DTSTART;TZID=America/New_York:20180321T100000
DTEND;TZID=America/New_York:20180321T100000
DTSTAMP:20260419T213200
CREATED:20180202T021708Z
LAST-MODIFIED:20180203T133359Z
UID:2370-1521626400-1521626400@nclckids.org
SUMMARY:Easter Chapel
DESCRIPTION:
URL:https://nclckids.org/event/easter-chapel-2/
LOCATION:The Music Room
END:VEVENT
BEGIN:VEVENT
DTSTART;TZID=America/New_York:20180321T093000
DTEND;TZID=America/New_York:20180321T093000
DTSTAMP:20260419T213200
CREATED:20180202T021707Z
LAST-MODIFIED:20180203T132322Z
UID:2369-1521624600-1521624600@nclckids.org
SUMMARY:Easter Chapel
DESCRIPTION:
URL:https://nclckids.org/event/easter-chapel/
LOCATION:The Sanctuary
END:VEVENT
BEGIN:VEVENT
DTSTART;VALUE=DATE:20180316
DTEND;VALUE=DATE:20180317
DTSTAMP:20260419T213200
CREATED:20180302T015844Z
LAST-MODIFIED:20180302T015844Z
UID:2423-1521158400-1521244799@nclckids.org
SUMMARY:Summer Program Registration Due
DESCRIPTION:
URL:https://nclckids.org/event/summer-program-registration-due/
END:VEVENT
BEGIN:VEVENT
DTSTART;VALUE=DATE:20180312
DTEND;VALUE=DATE:20180313
DTSTAMP:20260419T213200
CREATED:20180302T015934Z
LAST-MODIFIED:20180302T015934Z
UID:2425-1520812800-1520899199@nclckids.org
SUMMARY:Spring Fundraiser Orders Due
DESCRIPTION:
URL:https://nclckids.org/event/spring-fundraiser-orders-due-3/
END:VEVENT
BEGIN:VEVENT
DTSTART;VALUE=DATE:20180312
DTEND;VALUE=DATE:20180317
DTSTAMP:20260419T213200
CREATED:20180302T015739Z
LAST-MODIFIED:20180302T015739Z
UID:2421-1520812800-1521244799@nclckids.org
SUMMARY:Summer Program Registration
DESCRIPTION:
URL:https://nclckids.org/event/summer-program-registration/
END:VEVENT
BEGIN:VEVENT
DTSTART;VALUE=DATE:20180309
DTEND;VALUE=DATE:20180310
DTSTAMP:20260419T213200
CREATED:20180302T015612Z
LAST-MODIFIED:20180302T015612Z
UID:2419-1520553600-1520639999@nclckids.org
SUMMARY:Romper Rhythm Puppet Show
DESCRIPTION:Friday students only
URL:https://nclckids.org/event/romper-rhythm-puppet-show/
END:VEVENT
BEGIN:VEVENT
DTSTART;TZID=America/New_York:20180212T000000
DTEND;TZID=America/New_York:20180212T000000
DTSTAMP:20260419T213200
CREATED:20180202T021655Z
LAST-MODIFIED:20180203T132741Z
UID:2365-1518393600-1518393600@nclckids.org
SUMMARY:Nashua Dentistry for Children
DESCRIPTION:Presentation on Dental health for all classes
URL:https://nclckids.org/event/nashua-dentistry-for-children/
END:VEVENT
END:VCALENDAR