BEGIN:VCALENDAR
VERSION:2.0
PRODID:-//Nashua Child Learning Center - ECPv6.15.20//NONSGML v1.0//EN
CALSCALE:GREGORIAN
METHOD:PUBLISH
X-WR-CALNAME:Nashua Child Learning Center
X-ORIGINAL-URL:https://nclckids.org
X-WR-CALDESC:Events for Nashua Child Learning Center
REFRESH-INTERVAL;VALUE=DURATION:PT1H
X-Robots-Tag:noindex
X-PUBLISHED-TTL:PT1H
BEGIN:VTIMEZONE
TZID:America/New_York
BEGIN:DAYLIGHT
TZOFFSETFROM:-0500
TZOFFSETTO:-0400
TZNAME:EDT
DTSTART:20160313T070000
END:DAYLIGHT
BEGIN:STANDARD
TZOFFSETFROM:-0400
TZOFFSETTO:-0500
TZNAME:EST
DTSTART:20161106T060000
END:STANDARD
BEGIN:DAYLIGHT
TZOFFSETFROM:-0500
TZOFFSETTO:-0400
TZNAME:EDT
DTSTART:20170312T070000
END:DAYLIGHT
BEGIN:STANDARD
TZOFFSETFROM:-0400
TZOFFSETTO:-0500
TZNAME:EST
DTSTART:20171105T060000
END:STANDARD
BEGIN:DAYLIGHT
TZOFFSETFROM:-0500
TZOFFSETTO:-0400
TZNAME:EDT
DTSTART:20180311T070000
END:DAYLIGHT
BEGIN:STANDARD
TZOFFSETFROM:-0400
TZOFFSETTO:-0500
TZNAME:EST
DTSTART:20181104T060000
END:STANDARD
END:VTIMEZONE
BEGIN:VEVENT
DTSTART;TZID=America/New_York:20171215T040000
DTEND;TZID=America/New_York:20171215T040000
DTSTAMP:20260420T051032
CREATED:20180202T021636Z
LAST-MODIFIED:20180202T021636Z
UID:2346-1513310400-1513310400@nclckids.org
SUMMARY:Christmas Festivities - Pre-K
DESCRIPTION:Parents are invited to join in the fun
URL:https://nclckids.org/event/christmas-festivities-pre-k/
END:VEVENT
BEGIN:VEVENT
DTSTART;TZID=America/New_York:20171213T100000
DTEND;TZID=America/New_York:20171213T100000
DTSTAMP:20260420T051032
CREATED:20180202T021654Z
LAST-MODIFIED:20180202T021654Z
UID:2364-1513159200-1513159200@nclckids.org
SUMMARY:Chapel
DESCRIPTION:Transitional Preschool and younger children
URL:https://nclckids.org/event/chapel-16/
END:VEVENT
BEGIN:VEVENT
DTSTART;TZID=America/New_York:20171213T093000
DTEND;TZID=America/New_York:20171213T093000
DTSTAMP:20260420T051032
CREATED:20180202T021654Z
LAST-MODIFIED:20180202T021654Z
UID:2363-1513157400-1513157400@nclckids.org
SUMMARY:Chapel
DESCRIPTION:Preschool and older
URL:https://nclckids.org/event/chapel-15/
END:VEVENT
BEGIN:VEVENT
DTSTART;TZID=America/New_York:20171208T100000
DTEND;TZID=America/New_York:20171208T100000
DTSTAMP:20260420T051032
CREATED:20180202T021640Z
LAST-MODIFIED:20180202T021640Z
UID:2349-1512727200-1512727200@nclckids.org
SUMMARY:Steve Blunt Christmas Concert
DESCRIPTION:All students who don’t attend NCLC on Fridays are welcome to attend with a parent or guardian
URL:https://nclckids.org/event/steve-blunt-christmas-concert/
END:VEVENT
BEGIN:VEVENT
DTSTART;TZID=America/New_York:20171124T000000
DTEND;TZID=America/New_York:20171124T000000
DTSTAMP:20260420T051032
CREATED:20180202T021630Z
LAST-MODIFIED:20180202T021630Z
UID:2338-1511481600-1511481600@nclckids.org
SUMMARY:Thanksgiving Recess
DESCRIPTION:N.C.L.C. will be closed on November 23rd and 24th FYI: Tuition will remain the same for the week of November 20th
URL:https://nclckids.org/event/thanksgiving-recess-4/
END:VEVENT
BEGIN:VEVENT
DTSTART;TZID=America/New_York:20171123T000000
DTEND;TZID=America/New_York:20171123T000000
DTSTAMP:20260420T051032
CREATED:20180202T021629Z
LAST-MODIFIED:20180202T021629Z
UID:2337-1511395200-1511395200@nclckids.org
SUMMARY:Thanksgiving Recess
DESCRIPTION:N.C.L.C. will be closed on November 23rd and 24th FYI: Tuition will remain the same for the week of November 20th
URL:https://nclckids.org/event/thanksgiving-recess-3/
END:VEVENT
BEGIN:VEVENT
DTSTART;TZID=America/New_York:20171115T100000
DTEND;TZID=America/New_York:20171115T100000
DTSTAMP:20260420T051032
CREATED:20180202T021632Z
LAST-MODIFIED:20180202T021632Z
UID:2341-1510740000-1510740000@nclckids.org
SUMMARY:Chapel
DESCRIPTION:Preschool and youngerParents are welcome to attend
URL:https://nclckids.org/event/chapel-14/
END:VEVENT
BEGIN:VEVENT
DTSTART;TZID=America/New_York:20171115T093000
DTEND;TZID=America/New_York:20171115T093000
DTSTAMP:20260420T051032
CREATED:20180202T021632Z
LAST-MODIFIED:20180202T021632Z
UID:2340-1510738200-1510738200@nclckids.org
SUMMARY:Chapel
DESCRIPTION:PreK through KindergartenParents are welcome to attend
URL:https://nclckids.org/event/chapel-13/
END:VEVENT
BEGIN:VEVENT
DTSTART;TZID=America/New_York:20171113T000000
DTEND;TZID=America/New_York:20171113T000000
DTSTAMP:20260420T051032
CREATED:20180202T021631Z
LAST-MODIFIED:20180202T021631Z
UID:2339-1510531200-1510531200@nclckids.org
SUMMARY:Parent/Teacher conferences for Kindergarten students
DESCRIPTION:
URL:https://nclckids.org/event/parent-teacher-conferences-for-kindergarten-students/
END:VEVENT
BEGIN:VEVENT
DTSTART;TZID=America/New_York:20171113T000000
DTEND;TZID=America/New_York:20171113T000000
DTSTAMP:20260420T051032
CREATED:20180202T021627Z
LAST-MODIFIED:20180202T021627Z
UID:2336-1510531200-1510531200@nclckids.org
SUMMARY:Fund Raiser Delivery
DESCRIPTION:
URL:https://nclckids.org/event/fund-raiser-delivery-2/
END:VEVENT
BEGIN:VEVENT
DTSTART;TZID=America/New_York:20171110T000000
DTEND;TZID=America/New_York:20171110T000000
DTSTAMP:20260420T051032
CREATED:20180202T021626Z
LAST-MODIFIED:20180202T021626Z
UID:2335-1510272000-1510272000@nclckids.org
SUMMARY:Veterans Day
DESCRIPTION:No classes; Child care onlyPlease note: AM and 9:00-2:00 students may attend if space is available and with prior approval from the office. There is an additional charge for AM and 9:00-2:00 children on this day. This day is not included in your monthly tuition rate.
URL:https://nclckids.org/event/veterans-day-2/
END:VEVENT
BEGIN:VEVENT
DTSTART;TZID=America/New_York:20171109T000000
DTEND;TZID=America/New_York:20171109T000000
DTSTAMP:20260420T051032
CREATED:20180202T021625Z
LAST-MODIFIED:20180202T021625Z
UID:2334-1510185600-1510185600@nclckids.org
SUMMARY:School Picture Day
DESCRIPTION:
URL:https://nclckids.org/event/school-picture-day-2/
END:VEVENT
BEGIN:VEVENT
DTSTART;TZID=America/New_York:20171108T000000
DTEND;TZID=America/New_York:20171108T000000
DTSTAMP:20260420T051032
CREATED:20180202T021625Z
LAST-MODIFIED:20180202T021625Z
UID:2333-1510099200-1510099200@nclckids.org
SUMMARY:School Picture Day
DESCRIPTION:
URL:https://nclckids.org/event/school-picture-day/
END:VEVENT
BEGIN:VEVENT
DTSTART;TZID=America/New_York:20171009T000000
DTEND;TZID=America/New_York:20171009T000000
DTSTAMP:20260420T051032
CREATED:20180202T021623Z
LAST-MODIFIED:20180202T021623Z
UID:2332-1507507200-1507507200@nclckids.org
SUMMARY:Columbus Day
DESCRIPTION:Closed for AM and 9:00-2:00 classes.  Open for child care students only. Refer to Pg. 9 in your Family Handbook for fee information.
URL:https://nclckids.org/event/columbus-day-2/
END:VEVENT
BEGIN:VEVENT
DTSTART;TZID=America/New_York:20170905T000000
DTEND;TZID=America/New_York:20170905T000000
DTSTAMP:20260420T051032
CREATED:20180202T021621Z
LAST-MODIFIED:20180202T021621Z
UID:2330-1504569600-1504569600@nclckids.org
SUMMARY:School Year begins
DESCRIPTION:
URL:https://nclckids.org/event/school-year-begins/
END:VEVENT
BEGIN:VEVENT
DTSTART;TZID=America/New_York:20170904T000000
DTEND;TZID=America/New_York:20170904T000000
DTSTAMP:20260420T051032
CREATED:20180202T021620Z
LAST-MODIFIED:20180202T021620Z
UID:2329-1504483200-1504483200@nclckids.org
SUMMARY:Labor Day
DESCRIPTION:NCLC closed
URL:https://nclckids.org/event/labor-day-2/
END:VEVENT
BEGIN:VEVENT
DTSTART;TZID=America/New_York:20170829T000000
DTEND;TZID=America/New_York:20170829T000000
DTSTAMP:20260420T051032
CREATED:20180202T021620Z
LAST-MODIFIED:20180202T021620Z
UID:2328-1503964800-1503964800@nclckids.org
SUMMARY:Open House for 2017 – 2018 school year
DESCRIPTION:
URL:https://nclckids.org/event/open-house-for-2017-2018-school-year/
END:VEVENT
BEGIN:VEVENT
DTSTART;TZID=America/New_York:20170710T000000
DTEND;TZID=America/New_York:20170710T000000
DTSTAMP:20260420T051032
CREATED:20180202T021621Z
LAST-MODIFIED:20180202T021621Z
UID:2331-1499644800-1499644800@nclckids.org
SUMMARY:Updated forms due for all 2017-2018 NCLC students
DESCRIPTION:
URL:https://nclckids.org/event/updated-forms-due-for-all-2017-2018-nclc-students/
END:VEVENT
BEGIN:VEVENT
DTSTART;TZID=America/New_York:20170704T000000
DTEND;TZID=America/New_York:20170704T000000
DTSTAMP:20260420T051032
CREATED:20180202T021553Z
LAST-MODIFIED:20180202T021553Z
UID:2308-1499126400-1499126400@nclckids.org
SUMMARY:Independence Day
DESCRIPTION:NCLC Closed
URL:https://nclckids.org/event/independence-day-3/
END:VEVENT
BEGIN:VEVENT
DTSTART;TZID=America/New_York:20170619T000000
DTEND;TZID=America/New_York:20170619T000000
DTSTAMP:20260420T051032
CREATED:20180202T021551Z
LAST-MODIFIED:20180202T021551Z
UID:2307-1497830400-1497830400@nclckids.org
SUMMARY:Summer Camp Begins
DESCRIPTION:
URL:https://nclckids.org/event/summer-camp-begins-2/
END:VEVENT
BEGIN:VEVENT
DTSTART;TZID=America/New_York:20170616T000000
DTEND;TZID=America/New_York:20170616T000000
DTSTAMP:20260420T051032
CREATED:20180202T021549Z
LAST-MODIFIED:20180202T021549Z
UID:2306-1497571200-1497571200@nclckids.org
SUMMARY:Last Day of School
DESCRIPTION:
URL:https://nclckids.org/event/last-day-of-school-2/
END:VEVENT
BEGIN:VEVENT
DTSTART;TZID=America/New_York:20170615T183000
DTEND;TZID=America/New_York:20170615T183000
DTSTAMP:20260420T051032
CREATED:20180202T021549Z
LAST-MODIFIED:20180202T021549Z
UID:2305-1497551400-1497551400@nclckids.org
SUMMARY:Kindergarten Graduation
DESCRIPTION:6:15 pm Children meet in their classroom 6:30 pm Graduation ceremony\n 7:00-8:00 pm Reception
URL:https://nclckids.org/event/kindergarten-graduation-2/
END:VEVENT
BEGIN:VEVENT
DTSTART;TZID=America/New_York:20170531T000000
DTEND;TZID=America/New_York:20170531T000000
DTSTAMP:20260420T051032
CREATED:20180202T021616Z
LAST-MODIFIED:20180202T021616Z
UID:2325-1496188800-1496188800@nclckids.org
SUMMARY:"Opt Out" for Summer program Fee Due
DESCRIPTION:
URL:https://nclckids.org/event/opt-out-for-summer-program-fee-due/
END:VEVENT
BEGIN:VEVENT
DTSTART;TZID=America/New_York:20170529T000000
DTEND;TZID=America/New_York:20170529T000000
DTSTAMP:20260420T051032
CREATED:20180202T021548Z
LAST-MODIFIED:20180202T021548Z
UID:2304-1496016000-1496016000@nclckids.org
SUMMARY:Memorial Day
DESCRIPTION:NCLC Closed
URL:https://nclckids.org/event/memorial-day-2/
END:VEVENT
BEGIN:VEVENT
DTSTART;TZID=America/New_York:20170524T093000
DTEND;TZID=America/New_York:20170524T093000
DTSTAMP:20260420T051032
CREATED:20180202T021618Z
LAST-MODIFIED:20180202T021618Z
UID:2327-1495618200-1495618200@nclckids.org
SUMMARY:Chapel
DESCRIPTION:Parents are welcome to attend
URL:https://nclckids.org/event/chapel-12/
END:VEVENT
BEGIN:VEVENT
DTSTART;TZID=America/New_York:20170523T093000
DTEND;TZID=America/New_York:20170523T093000
DTSTAMP:20260420T051032
CREATED:20180202T021617Z
LAST-MODIFIED:20180202T021617Z
UID:2326-1495531800-1495531800@nclckids.org
SUMMARY:Chapel
DESCRIPTION:Parents are welcome to attend
URL:https://nclckids.org/event/chapel-11/
END:VEVENT
BEGIN:VEVENT
DTSTART;TZID=America/New_York:20170503T000000
DTEND;TZID=America/New_York:20170503T000000
DTSTAMP:20260420T051032
CREATED:20180202T021616Z
LAST-MODIFIED:20180202T021616Z
UID:2324-1493769600-1493769600@nclckids.org
SUMMARY:Spring Portraits
DESCRIPTION:
URL:https://nclckids.org/event/spring-portraits-2/
END:VEVENT
BEGIN:VEVENT
DTSTART;TZID=America/New_York:20170503T000000
DTEND;TZID=America/New_York:20170503T000000
DTSTAMP:20260420T051032
CREATED:20180202T021615Z
LAST-MODIFIED:20180202T021615Z
UID:2323-1493769600-1493769600@nclckids.org
SUMMARY:Kindergarten Graduation Portraits
DESCRIPTION:
URL:https://nclckids.org/event/kindergarten-graduation-portraits-2/
END:VEVENT
BEGIN:VEVENT
DTSTART;TZID=America/New_York:20170501T000000
DTEND;TZID=America/New_York:20170501T000000
DTSTAMP:20260420T051032
CREATED:20180202T021614Z
LAST-MODIFIED:20180202T021614Z
UID:2322-1493596800-1493596800@nclckids.org
SUMMARY:Deposit due for 2017-2018 Kindergarten students
DESCRIPTION:
URL:https://nclckids.org/event/deposit-due-for-2017-2018-kindergarten-students/
END:VEVENT
BEGIN:VEVENT
DTSTART;TZID=America/New_York:20170428T000000
DTEND;TZID=America/New_York:20170428T000000
DTSTAMP:20260420T051032
CREATED:20180202T021547Z
LAST-MODIFIED:20180202T021547Z
UID:2303-1493337600-1493337600@nclckids.org
SUMMARY:Spring Recess
DESCRIPTION:No classes\, childcare only
URL:https://nclckids.org/event/spring-recess-5/
END:VEVENT
END:VCALENDAR