BEGIN:VCALENDAR
VERSION:2.0
PRODID:-//Nashua Child Learning Center - ECPv6.15.20//NONSGML v1.0//EN
CALSCALE:GREGORIAN
METHOD:PUBLISH
X-ORIGINAL-URL:https://nclckids.org
X-WR-CALDESC:Events for Nashua Child Learning Center
REFRESH-INTERVAL;VALUE=DURATION:PT1H
X-Robots-Tag:noindex
X-PUBLISHED-TTL:PT1H
BEGIN:VTIMEZONE
TZID:America/New_York
BEGIN:DAYLIGHT
TZOFFSETFROM:-0500
TZOFFSETTO:-0400
TZNAME:EDT
DTSTART:20150308T070000
END:DAYLIGHT
BEGIN:STANDARD
TZOFFSETFROM:-0400
TZOFFSETTO:-0500
TZNAME:EST
DTSTART:20151101T060000
END:STANDARD
BEGIN:DAYLIGHT
TZOFFSETFROM:-0500
TZOFFSETTO:-0400
TZNAME:EDT
DTSTART:20160313T070000
END:DAYLIGHT
BEGIN:STANDARD
TZOFFSETFROM:-0400
TZOFFSETTO:-0500
TZNAME:EST
DTSTART:20161106T060000
END:STANDARD
BEGIN:DAYLIGHT
TZOFFSETFROM:-0500
TZOFFSETTO:-0400
TZNAME:EDT
DTSTART:20170312T070000
END:DAYLIGHT
BEGIN:STANDARD
TZOFFSETFROM:-0400
TZOFFSETTO:-0500
TZNAME:EST
DTSTART:20171105T060000
END:STANDARD
BEGIN:DAYLIGHT
TZOFFSETFROM:-0500
TZOFFSETTO:-0400
TZNAME:EDT
DTSTART:20180311T070000
END:DAYLIGHT
BEGIN:STANDARD
TZOFFSETFROM:-0400
TZOFFSETTO:-0500
TZNAME:EST
DTSTART:20181104T060000
END:STANDARD
END:VTIMEZONE
BEGIN:VEVENT
DTSTART;TZID=America/New_York:20170207T093000
DTEND;TZID=America/New_York:20170207T093000
DTSTAMP:20260420T130716
CREATED:20180202T021559Z
LAST-MODIFIED:20180202T021559Z
UID:2314-1486459800-1486459800@nclckids.org
SUMMARY:Chapel
DESCRIPTION:Parents are welcome to attend
URL:https://nclckids.org/event/chapel-7/
END:VEVENT
BEGIN:VEVENT
DTSTART;TZID=America/New_York:20170204T013000
DTEND;TZID=America/New_York:20170204T013000
DTSTAMP:20260420T130716
CREATED:20180202T021600Z
LAST-MODIFIED:20180202T021600Z
UID:2316-1486171800-1486171800@nclckids.org
SUMMARY:Lego Family Fun Day
DESCRIPTION:Lego Building!Lego Activities!\nLego Games!\nLego Crafts!\nLego Snacks!
URL:https://nclckids.org/event/lego-family-fun-day/
END:VEVENT
BEGIN:VEVENT
DTSTART;TZID=America/New_York:20170118T100000
DTEND;TZID=America/New_York:20170118T100000
DTSTAMP:20260420T130716
CREATED:20180202T021558Z
LAST-MODIFIED:20180202T021558Z
UID:2313-1484733600-1484733600@nclckids.org
SUMMARY:Greg McAdams Team Magic Show
DESCRIPTION:Those children who do not come to school on this day are welcome to join us accompanied by a parent or guardian
URL:https://nclckids.org/event/greg-mcadams-team-magic-show/
END:VEVENT
BEGIN:VEVENT
DTSTART;TZID=America/New_York:20170116T000000
DTEND;TZID=America/New_York:20170116T000000
DTSTAMP:20260420T130716
CREATED:20180202T021527Z
LAST-MODIFIED:20180202T021527Z
UID:2288-1484524800-1484524800@nclckids.org
SUMMARY:Dr. Martin Luther King\, Jr. Day
DESCRIPTION:No classes\, childcare only
URL:https://nclckids.org/event/dr-martin-luther-king-jr-day/
END:VEVENT
BEGIN:VEVENT
DTSTART;TZID=America/New_York:20170113T000000
DTEND;TZID=America/New_York:20170113T000000
DTSTAMP:20260420T130716
CREATED:20180202T021526Z
LAST-MODIFIED:20180202T021526Z
UID:2287-1484265600-1484265600@nclckids.org
SUMMARY:Re-Registration for 2017-2018 School Year
DESCRIPTION:
URL:https://nclckids.org/event/re-registration-for-2017-2018-school-year-5/
END:VEVENT
BEGIN:VEVENT
DTSTART;TZID=America/New_York:20170112T000000
DTEND;TZID=America/New_York:20170112T000000
DTSTAMP:20260420T130716
CREATED:20180202T021524Z
LAST-MODIFIED:20180202T021524Z
UID:2286-1484179200-1484179200@nclckids.org
SUMMARY:Re-Registration for 2017-2018 School Year
DESCRIPTION:
URL:https://nclckids.org/event/re-registration-for-2017-2018-school-year-4/
END:VEVENT
BEGIN:VEVENT
DTSTART;TZID=America/New_York:20170111T000000
DTEND;TZID=America/New_York:20170111T000000
DTSTAMP:20260420T130716
CREATED:20180202T021524Z
LAST-MODIFIED:20180202T021524Z
UID:2285-1484092800-1484092800@nclckids.org
SUMMARY:Re-Registration for 2017-2018 School Year
DESCRIPTION:
URL:https://nclckids.org/event/re-registration-for-2017-2018-school-year-3/
END:VEVENT
BEGIN:VEVENT
DTSTART;TZID=America/New_York:20170110T000000
DTEND;TZID=America/New_York:20170110T000000
DTSTAMP:20260420T130716
CREATED:20180202T021524Z
LAST-MODIFIED:20180202T021524Z
UID:2284-1484006400-1484006400@nclckids.org
SUMMARY:Re-Registration for 2017-2018 School Year
DESCRIPTION:
URL:https://nclckids.org/event/re-registration-for-2017-2018-school-year-2/
END:VEVENT
BEGIN:VEVENT
DTSTART;TZID=America/New_York:20170109T000000
DTEND;TZID=America/New_York:20170109T000000
DTSTAMP:20260420T130716
CREATED:20180202T021523Z
LAST-MODIFIED:20180202T021523Z
UID:2283-1483920000-1483920000@nclckids.org
SUMMARY:Re-Registration for 2017-2018 School Year
DESCRIPTION:
URL:https://nclckids.org/event/re-registration-for-2017-2018-school-year/
END:VEVENT
BEGIN:VEVENT
DTSTART;TZID=America/New_York:20170102T000000
DTEND;TZID=America/New_York:20170102T000000
DTSTAMP:20260420T130716
CREATED:20180202T021523Z
LAST-MODIFIED:20180202T021523Z
UID:2282-1483315200-1483315200@nclckids.org
SUMMARY:New Years Day (observed)
DESCRIPTION:NCLC Closed
URL:https://nclckids.org/event/new-years-day-observed/
END:VEVENT
BEGIN:VEVENT
DTSTART;TZID=America/New_York:20161230T000000
DTEND;TZID=America/New_York:20161230T000000
DTSTAMP:20260420T130716
CREATED:20180202T021519Z
LAST-MODIFIED:20180202T021519Z
UID:2281-1483056000-1483056000@nclckids.org
SUMMARY:Christmas Recess
DESCRIPTION:No classes\, childcare only
URL:https://nclckids.org/event/christmas-recess-4/
END:VEVENT
BEGIN:VEVENT
DTSTART;TZID=America/New_York:20161229T000000
DTEND;TZID=America/New_York:20161229T000000
DTSTAMP:20260420T130716
CREATED:20180202T021518Z
LAST-MODIFIED:20180202T021518Z
UID:2280-1482969600-1482969600@nclckids.org
SUMMARY:Christmas Recess
DESCRIPTION:No classes\, childcare only
URL:https://nclckids.org/event/christmas-recess-3/
END:VEVENT
BEGIN:VEVENT
DTSTART;TZID=America/New_York:20161228T000000
DTEND;TZID=America/New_York:20161228T000000
DTSTAMP:20260420T130716
CREATED:20180202T021517Z
LAST-MODIFIED:20180202T021517Z
UID:2279-1482883200-1482883200@nclckids.org
SUMMARY:Christmas Recess
DESCRIPTION:No classes\, childcare only
URL:https://nclckids.org/event/christmas-recess-2/
END:VEVENT
BEGIN:VEVENT
DTSTART;TZID=America/New_York:20161227T000000
DTEND;TZID=America/New_York:20161227T000000
DTSTAMP:20260420T130716
CREATED:20180202T021517Z
LAST-MODIFIED:20180202T021517Z
UID:2278-1482796800-1482796800@nclckids.org
SUMMARY:Christmas Recess
DESCRIPTION:No classes\, childcare only
URL:https://nclckids.org/event/christmas-recess/
END:VEVENT
BEGIN:VEVENT
DTSTART;TZID=America/New_York:20161226T000000
DTEND;TZID=America/New_York:20161226T000000
DTSTAMP:20260420T130716
CREATED:20180202T021515Z
LAST-MODIFIED:20180202T021515Z
UID:2277-1482710400-1482710400@nclckids.org
SUMMARY:Christmas Day (observed)
DESCRIPTION:NCLC Closed
URL:https://nclckids.org/event/christmas-day-observed/
END:VEVENT
BEGIN:VEVENT
DTSTART;TZID=America/New_York:20161214T093000
DTEND;TZID=America/New_York:20161214T093000
DTSTAMP:20260420T130716
CREATED:20180202T021556Z
LAST-MODIFIED:20180202T021556Z
UID:2312-1481707800-1481707800@nclckids.org
SUMMARY:Chapel
DESCRIPTION:Parents are welcome to attend
URL:https://nclckids.org/event/chapel-6/
END:VEVENT
BEGIN:VEVENT
DTSTART;TZID=America/New_York:20161213T093000
DTEND;TZID=America/New_York:20161213T093000
DTSTAMP:20260420T130716
CREATED:20180202T021554Z
LAST-MODIFIED:20180202T021554Z
UID:2311-1481621400-1481621400@nclckids.org
SUMMARY:Chapel
DESCRIPTION:Parents are welcome to attend
URL:https://nclckids.org/event/chapel-5/
END:VEVENT
BEGIN:VEVENT
DTSTART;TZID=America/New_York:20161125T000000
DTEND;TZID=America/New_York:20161125T000000
DTSTAMP:20260420T130716
CREATED:20180202T021511Z
LAST-MODIFIED:20180202T021511Z
UID:2276-1480032000-1480032000@nclckids.org
SUMMARY:Thanksgiving Recess
DESCRIPTION:NCLC ClosedFYI: Tuition will remain the same for the week of November 21st
URL:https://nclckids.org/event/thanksgiving-recess-2/
END:VEVENT
BEGIN:VEVENT
DTSTART;TZID=America/New_York:20161124T000000
DTEND;TZID=America/New_York:20161124T000000
DTSTAMP:20260420T130716
CREATED:20180202T021510Z
LAST-MODIFIED:20180202T021510Z
UID:2275-1479945600-1479945600@nclckids.org
SUMMARY:Thanksgiving Recess
DESCRIPTION:NCLC ClosedFYI: Tuition will remain the same for the week of November 21st
URL:https://nclckids.org/event/thanksgiving-recess/
END:VEVENT
BEGIN:VEVENT
DTSTART;TZID=America/New_York:20161117T000000
DTEND;TZID=America/New_York:20161117T000000
DTSTAMP:20260420T130716
CREATED:20180202T021509Z
LAST-MODIFIED:20180202T021509Z
UID:2274-1479340800-1479340800@nclckids.org
SUMMARY:Kindergarten Conferences
DESCRIPTION:
URL:https://nclckids.org/event/kindergarten-conferences-4/
END:VEVENT
BEGIN:VEVENT
DTSTART;TZID=America/New_York:20161116T000000
DTEND;TZID=America/New_York:20161116T000000
DTSTAMP:20260420T130716
CREATED:20180202T021509Z
LAST-MODIFIED:20180202T021509Z
UID:2273-1479254400-1479254400@nclckids.org
SUMMARY:Kindergarten Conferences
DESCRIPTION:
URL:https://nclckids.org/event/kindergarten-conferences-3/
END:VEVENT
BEGIN:VEVENT
DTSTART;TZID=America/New_York:20161115T000000
DTEND;TZID=America/New_York:20161115T000000
DTSTAMP:20260420T130716
CREATED:20180202T021554Z
LAST-MODIFIED:20180202T021554Z
UID:2310-1479168000-1479168000@nclckids.org
SUMMARY:Fund Raiser Delivery
DESCRIPTION:
URL:https://nclckids.org/event/fund-raiser-delivery/
END:VEVENT
BEGIN:VEVENT
DTSTART;TZID=America/New_York:20161115T000000
DTEND;TZID=America/New_York:20161115T000000
DTSTAMP:20260420T130716
CREATED:20180202T021507Z
LAST-MODIFIED:20180202T021507Z
UID:2272-1479168000-1479168000@nclckids.org
SUMMARY:Kindergarten Conferences
DESCRIPTION:
URL:https://nclckids.org/event/kindergarten-conferences-2/
END:VEVENT
BEGIN:VEVENT
DTSTART;TZID=America/New_York:20161114T000000
DTEND;TZID=America/New_York:20161114T000000
DTSTAMP:20260420T130716
CREATED:20180202T021502Z
LAST-MODIFIED:20180202T021502Z
UID:2271-1479081600-1479081600@nclckids.org
SUMMARY:Kindergarten Conferences
DESCRIPTION:
URL:https://nclckids.org/event/kindergarten-conferences/
END:VEVENT
BEGIN:VEVENT
DTSTART;TZID=America/New_York:20161111T000000
DTEND;TZID=America/New_York:20161111T000000
DTSTAMP:20260420T130716
CREATED:20180202T021501Z
LAST-MODIFIED:20180202T021501Z
UID:2270-1478822400-1478822400@nclckids.org
SUMMARY:Veterans Day
DESCRIPTION:No classes\, childcare onlyPlease note: AM and 9:00-2:00 students may attend if space is available and with prior approval from the office. There is an additional charge for AM and 9:00- 2:00 children on this day. This day is not included in your monthly tuition rate.
URL:https://nclckids.org/event/veterans-day/
END:VEVENT
BEGIN:VEVENT
DTSTART;TZID=America/New_York:20161110T000000
DTEND;TZID=America/New_York:20161110T000000
DTSTAMP:20260420T130716
CREATED:20180202T021500Z
LAST-MODIFIED:20180202T021500Z
UID:2269-1478736000-1478736000@nclckids.org
SUMMARY:School Pictures
DESCRIPTION:
URL:https://nclckids.org/event/school-pictures-2/
END:VEVENT
BEGIN:VEVENT
DTSTART;TZID=America/New_York:20161109T000000
DTEND;TZID=America/New_York:20161109T000000
DTSTAMP:20260420T130716
CREATED:20180202T021459Z
LAST-MODIFIED:20180202T021459Z
UID:2268-1478649600-1478649600@nclckids.org
SUMMARY:School Pictures
DESCRIPTION:
URL:https://nclckids.org/event/school-pictures/
END:VEVENT
BEGIN:VEVENT
DTSTART;TZID=America/New_York:20161104T000000
DTEND;TZID=America/New_York:20161104T000000
DTSTAMP:20260420T130716
CREATED:20180202T021553Z
LAST-MODIFIED:20180202T021553Z
UID:2309-1478217600-1478217600@nclckids.org
SUMMARY:Lil’ Iguana’s Children’s Safety
DESCRIPTION:Those children who do not come to school on Fridays are welcome to join us as long as they are accompanied by a parent or guardian
URL:https://nclckids.org/event/lil-iguanas-childrens-safety/
END:VEVENT
BEGIN:VEVENT
DTSTART;TZID=America/New_York:20161010T000000
DTEND;TZID=America/New_York:20161010T000000
DTSTAMP:20260420T130716
CREATED:20180202T021459Z
LAST-MODIFIED:20180202T021459Z
UID:2267-1476057600-1476057600@nclckids.org
SUMMARY:Columbus Day
DESCRIPTION:No classes\, childcare only
URL:https://nclckids.org/event/columbus-day/
END:VEVENT
BEGIN:VEVENT
DTSTART;TZID=America/New_York:20160906T000000
DTEND;TZID=America/New_York:20160906T000000
DTSTAMP:20260420T130716
CREATED:20180202T021455Z
LAST-MODIFIED:20180202T021455Z
UID:2266-1473120000-1473120000@nclckids.org
SUMMARY:First Day of School
DESCRIPTION:
URL:https://nclckids.org/event/first-day-of-school/
END:VEVENT
END:VCALENDAR