BEGIN:VCALENDAR
VERSION:2.0
PRODID:-//Nashua Child Learning Center - ECPv6.15.20//NONSGML v1.0//EN
CALSCALE:GREGORIAN
METHOD:PUBLISH
X-ORIGINAL-URL:https://nclckids.org
X-WR-CALDESC:Events for Nashua Child Learning Center
REFRESH-INTERVAL;VALUE=DURATION:PT1H
X-Robots-Tag:noindex
X-PUBLISHED-TTL:PT1H
BEGIN:VTIMEZONE
TZID:America/New_York
BEGIN:DAYLIGHT
TZOFFSETFROM:-0500
TZOFFSETTO:-0400
TZNAME:EDT
DTSTART:20150308T070000
END:DAYLIGHT
BEGIN:STANDARD
TZOFFSETFROM:-0400
TZOFFSETTO:-0500
TZNAME:EST
DTSTART:20151101T060000
END:STANDARD
BEGIN:DAYLIGHT
TZOFFSETFROM:-0500
TZOFFSETTO:-0400
TZNAME:EDT
DTSTART:20160313T070000
END:DAYLIGHT
BEGIN:STANDARD
TZOFFSETFROM:-0400
TZOFFSETTO:-0500
TZNAME:EST
DTSTART:20161106T060000
END:STANDARD
BEGIN:DAYLIGHT
TZOFFSETFROM:-0500
TZOFFSETTO:-0400
TZNAME:EDT
DTSTART:20170312T070000
END:DAYLIGHT
BEGIN:STANDARD
TZOFFSETFROM:-0400
TZOFFSETTO:-0500
TZNAME:EST
DTSTART:20171105T060000
END:STANDARD
END:VTIMEZONE
BEGIN:VEVENT
DTSTART;TZID=America/New_York:20160322T100000
DTEND;TZID=America/New_York:20160322T100000
DTSTAMP:20260420T213126
CREATED:20180202T021430Z
LAST-MODIFIED:20180202T021430Z
UID:2245-1458640800-1458640800@nclckids.org
SUMMARY:Lil’ Iguana Safety Program
DESCRIPTION:Students who do not attend school on Tuesdays are welcome to join us with a parent or guardian
URL:https://nclckids.org/event/lil-iguana-safety-program/
END:VEVENT
BEGIN:VEVENT
DTSTART;TZID=America/New_York:20160318T000000
DTEND;TZID=America/New_York:20160318T000000
DTSTAMP:20260420T213126
CREATED:20180202T021429Z
LAST-MODIFIED:20180202T021429Z
UID:2242-1458259200-1458259200@nclckids.org
SUMMARY:Registration for Summer
DESCRIPTION:
URL:https://nclckids.org/event/registration-for-summer-5/
END:VEVENT
BEGIN:VEVENT
DTSTART;TZID=America/New_York:20160317T000000
DTEND;TZID=America/New_York:20160317T000000
DTSTAMP:20260420T213126
CREATED:20180202T021422Z
LAST-MODIFIED:20180202T021422Z
UID:2241-1458172800-1458172800@nclckids.org
SUMMARY:Registration for Summer
DESCRIPTION:
URL:https://nclckids.org/event/registration-for-summer-4/
END:VEVENT
BEGIN:VEVENT
DTSTART;TZID=America/New_York:20160316T093000
DTEND;TZID=America/New_York:20160316T093000
DTSTAMP:20260420T213126
CREATED:20180202T021430Z
LAST-MODIFIED:20180202T021430Z
UID:2244-1458120600-1458120600@nclckids.org
SUMMARY:Chapel
DESCRIPTION:Parents are welcome to attend
URL:https://nclckids.org/event/chapel-2/
END:VEVENT
BEGIN:VEVENT
DTSTART;TZID=America/New_York:20160316T000000
DTEND;TZID=America/New_York:20160316T000000
DTSTAMP:20260420T213126
CREATED:20180202T021422Z
LAST-MODIFIED:20180202T021422Z
UID:2240-1458086400-1458086400@nclckids.org
SUMMARY:Registration for Summer
DESCRIPTION:
URL:https://nclckids.org/event/registration-for-summer-3/
END:VEVENT
BEGIN:VEVENT
DTSTART;TZID=America/New_York:20160315T093000
DTEND;TZID=America/New_York:20160315T093000
DTSTAMP:20260420T213126
CREATED:20180202T021429Z
LAST-MODIFIED:20180202T021429Z
UID:2243-1458034200-1458034200@nclckids.org
SUMMARY:Chapel
DESCRIPTION:Parents are welcome to attend
URL:https://nclckids.org/event/chapel/
END:VEVENT
BEGIN:VEVENT
DTSTART;TZID=America/New_York:20160315T000000
DTEND;TZID=America/New_York:20160315T000000
DTSTAMP:20260420T213126
CREATED:20180202T021421Z
LAST-MODIFIED:20180202T021421Z
UID:2239-1458000000-1458000000@nclckids.org
SUMMARY:Registration for Summer
DESCRIPTION:
URL:https://nclckids.org/event/registration-for-summer-2/
END:VEVENT
BEGIN:VEVENT
DTSTART;TZID=America/New_York:20160314T000000
DTEND;TZID=America/New_York:20160314T000000
DTSTAMP:20260420T213126
CREATED:20180202T021421Z
LAST-MODIFIED:20180202T021421Z
UID:2238-1457913600-1457913600@nclckids.org
SUMMARY:Registration for Summer
DESCRIPTION:
URL:https://nclckids.org/event/registration-for-summer/
END:VEVENT
BEGIN:VEVENT
DTSTART;TZID=America/New_York:20160309T000000
DTEND;TZID=America/New_York:20160309T000000
DTSTAMP:20260420T213126
CREATED:20180202T021420Z
LAST-MODIFIED:20180202T021420Z
UID:2237-1457481600-1457481600@nclckids.org
SUMMARY:Spring Fundraiser Orders Due
DESCRIPTION:
URL:https://nclckids.org/event/spring-fundraiser-orders-due/
END:VEVENT
END:VCALENDAR