BEGIN:VCALENDAR
VERSION:2.0
PRODID:-//Nashua Child Learning Center - ECPv6.15.20//NONSGML v1.0//EN
CALSCALE:GREGORIAN
METHOD:PUBLISH
X-ORIGINAL-URL:https://nclckids.org
X-WR-CALDESC:Events for Nashua Child Learning Center
REFRESH-INTERVAL;VALUE=DURATION:PT1H
X-Robots-Tag:noindex
X-PUBLISHED-TTL:PT1H
BEGIN:VTIMEZONE
TZID:America/New_York
BEGIN:DAYLIGHT
TZOFFSETFROM:-0500
TZOFFSETTO:-0400
TZNAME:EDT
DTSTART:20180311T070000
END:DAYLIGHT
BEGIN:STANDARD
TZOFFSETFROM:-0400
TZOFFSETTO:-0500
TZNAME:EST
DTSTART:20181104T060000
END:STANDARD
BEGIN:DAYLIGHT
TZOFFSETFROM:-0500
TZOFFSETTO:-0400
TZNAME:EDT
DTSTART:20190310T070000
END:DAYLIGHT
BEGIN:STANDARD
TZOFFSETFROM:-0400
TZOFFSETTO:-0500
TZNAME:EST
DTSTART:20191103T060000
END:STANDARD
BEGIN:DAYLIGHT
TZOFFSETFROM:-0500
TZOFFSETTO:-0400
TZNAME:EDT
DTSTART:20200308T070000
END:DAYLIGHT
BEGIN:STANDARD
TZOFFSETFROM:-0400
TZOFFSETTO:-0500
TZNAME:EST
DTSTART:20201101T060000
END:STANDARD
END:VTIMEZONE
BEGIN:VEVENT
DTSTART;TZID=America/New_York:20191211T093000
DTEND;TZID=America/New_York:20191211T100000
DTSTAMP:20260419T104806
CREATED:20191208T212924Z
LAST-MODIFIED:20191208T213006Z
UID:2971-1576056600-1576058400@nclckids.org
SUMMARY:Chapel
DESCRIPTION:For children in Transitional PreSchool and younger
URL:https://nclckids.org/event/chapel-26/
LOCATION:The Sanctuary
END:VEVENT
BEGIN:VEVENT
DTSTART;VALUE=DATE:20191128
DTEND;VALUE=DATE:20191130
DTSTAMP:20260419T104806
CREATED:20191109T162438Z
LAST-MODIFIED:20191109T162438Z
UID:2935-1574899200-1575071999@nclckids.org
SUMMARY:Thanksgiving Recess
DESCRIPTION:NCLC will be closed on November 28th and 29th\nFYI: Tuition will remain the same for the week of November 25th.
URL:https://nclckids.org/event/thanksgiving-recess-6/
END:VEVENT
BEGIN:VEVENT
DTSTART;TZID=America/New_York:20191120T100000
DTEND;TZID=America/New_York:20191120T103000
DTSTAMP:20260419T104806
CREATED:20191109T163040Z
LAST-MODIFIED:20191109T163040Z
UID:2943-1574244000-1574245800@nclckids.org
SUMMARY:Chapel
DESCRIPTION:Preschool and older
URL:https://nclckids.org/event/chapel-25/
LOCATION:The Sanctuary
END:VEVENT
BEGIN:VEVENT
DTSTART;TZID=America/New_York:20191120T093000
DTEND;TZID=America/New_York:20191120T100000
DTSTAMP:20260419T104806
CREATED:20191109T162938Z
LAST-MODIFIED:20191109T162938Z
UID:2941-1574242200-1574244000@nclckids.org
SUMMARY:Chapel
DESCRIPTION:Transitional Preschool and younger
URL:https://nclckids.org/event/chapel-24/
LOCATION:The Sanctuary
END:VEVENT
BEGIN:VEVENT
DTSTART;VALUE=DATE:20191118
DTEND;VALUE=DATE:20191120
DTSTAMP:20260419T104806
CREATED:20191109T162737Z
LAST-MODIFIED:20191109T162737Z
UID:2939-1574035200-1574207999@nclckids.org
SUMMARY:School portraits
DESCRIPTION:Christopher Vosburgh\, our school photographer\, has been photographing NCLC students for 29 years! Christopher spends a good amount of time with each child to insure a beautiful portrait without a sitting fee or obligation to buy…and NCLC receives a portion of the proceeds. Thank you in advance for purchasing your child’s portraits! School portraits are scheduled for November 18th and 19th.
URL:https://nclckids.org/event/school-portraits/
END:VEVENT
BEGIN:VEVENT
DTSTART;VALUE=DATE:20191118
DTEND;VALUE=DATE:20191123
DTSTAMP:20260419T104806
CREATED:20191109T162547Z
LAST-MODIFIED:20191109T162547Z
UID:2937-1574035200-1574467199@nclckids.org
SUMMARY:Parent/Teacher conferences for Kindergarten students
DESCRIPTION:Parent/Teacher conferences for Kindergarten students will be held the week of November 18th. Look for more information from Ms. Heather. By no means should you feel that this is the only time when you may visit with your child’s teacher. Written assessments for first grade placement will be sent home in April.
URL:https://nclckids.org/event/parent-teacher-conferences-for-kindergarten-students-2/
END:VEVENT
BEGIN:VEVENT
DTSTART;VALUE=DATE:20191111
DTEND;VALUE=DATE:20191112
DTSTAMP:20260419T104806
CREATED:20191109T162241Z
LAST-MODIFIED:20191109T162321Z
UID:2932-1573430400-1573516799@nclckids.org
SUMMARY:Veterans Day (observed)
DESCRIPTION:No classes; Child care only \nPlease note: AM and 9:00-2:00 students may attend if space is available and with prior approval from the office. There is an additional charge for AM and 9:00-2:00 children on this day. This day is not included in your monthly tuition rate.
URL:https://nclckids.org/event/veterans-day-observed/
END:VEVENT
BEGIN:VEVENT
DTSTART;TZID=America/New_York:20191026T153000
DTEND;TZID=America/New_York:20191026T173000
DTSTAMP:20260419T104806
CREATED:20191005T233324Z
LAST-MODIFIED:20191005T233324Z
UID:2913-1572103800-1572111000@nclckids.org
SUMMARY:Trunk or Treat
DESCRIPTION:On the 26th of October from 3:30 to 5:30pm Community Chapel is hosting its 5th annual “Trunk or Treat”! We had so much fun last few years! People from the church and NCLC bring their cars with decorated trunks and treats to the upper parking lot. Lots of people came with their costumed children from NCLC and the church and others to walk among the car trunks and get treats. We also had a fire for s’mores! Everyone had a great time! So\, we are doing the same thing again this year! We would love your family to come. If you would like to bring a decorated trunk and some treats\, please let me know by Oct. 21\, just so we will be able to plan. Hope to see you there!
URL:https://nclckids.org/event/trunk-or-treat/
END:VEVENT
BEGIN:VEVENT
DTSTART;VALUE=DATE:20191015
DTEND;VALUE=DATE:20191016
DTSTAMP:20260419T104806
CREATED:20191005T232306Z
LAST-MODIFIED:20191005T233004Z
UID:2910-1571097600-1571183999@nclckids.org
SUMMARY:Fire Prevention Month
DESCRIPTION:The Nashua Fire Department will visit on October 15th for a meet and greet and touch-a-truck experience for all students. We will also learn about fire safety!
URL:https://nclckids.org/event/fire-prevention-month/
END:VEVENT
BEGIN:VEVENT
DTSTART;VALUE=DATE:20191014
DTEND;VALUE=DATE:20191015
DTSTAMP:20260419T104806
CREATED:20190907T215938Z
LAST-MODIFIED:20190907T215938Z
UID:2894-1571011200-1571097599@nclckids.org
SUMMARY:Columbus Day
DESCRIPTION:October 14th Closed for AM and 9:00-2:00 classes. Open for child care students only. Refer to Pg. 9 in your Family Handbook for fee information.
URL:https://nclckids.org/event/columbus-day-4/
END:VEVENT
BEGIN:VEVENT
DTSTART;VALUE=DATE:20190923
DTEND;VALUE=DATE:20191016
DTSTAMP:20260419T104806
CREATED:20190907T220011Z
LAST-MODIFIED:20190907T220011Z
UID:2896-1569196800-1571183999@nclckids.org
SUMMARY:Fundraiser
DESCRIPTION:
URL:https://nclckids.org/event/fundraiser/
END:VEVENT
BEGIN:VEVENT
DTSTART;VALUE=DATE:20190903
DTEND;VALUE=DATE:20190904
DTSTAMP:20260419T104806
CREATED:20190611T001320Z
LAST-MODIFIED:20190611T001320Z
UID:2868-1567468800-1567555199@nclckids.org
SUMMARY:2019-2020 school year begins
DESCRIPTION:
URL:https://nclckids.org/event/2019-2020-school-year-begins/
END:VEVENT
BEGIN:VEVENT
DTSTART;VALUE=DATE:20190902
DTEND;VALUE=DATE:20190903
DTSTAMP:20260419T104806
CREATED:20190611T001230Z
LAST-MODIFIED:20190611T001230Z
UID:2866-1567382400-1567468799@nclckids.org
SUMMARY:Labor Day Holiday
DESCRIPTION:NCLC closed
URL:https://nclckids.org/event/labor-day-holiday/
END:VEVENT
BEGIN:VEVENT
DTSTART;VALUE=DATE:20190831
DTEND;VALUE=DATE:20190901
DTSTAMP:20260419T104806
CREATED:20190202T235132Z
LAST-MODIFIED:20190202T235132Z
UID:2715-1567209600-1567295999@nclckids.org
SUMMARY:Summer Camp Ends
DESCRIPTION:
URL:https://nclckids.org/event/summer-camp-ends/
END:VEVENT
BEGIN:VEVENT
DTSTART;TZID=America/New_York:20190827T163000
DTEND;TZID=America/New_York:20190827T173000
DTSTAMP:20260419T104806
CREATED:20190611T001041Z
LAST-MODIFIED:20190803T202017Z
UID:2864-1566923400-1566927000@nclckids.org
SUMMARY:Open house for all 2019-2020 fall classes
DESCRIPTION:NCLC will close at 4:30pm to host
URL:https://nclckids.org/event/open-house-for-all-2019-2020-fall-classes/
END:VEVENT
BEGIN:VEVENT
DTSTART;VALUE=DATE:20190805
DTEND;VALUE=DATE:20190810
DTSTAMP:20260419T104806
CREATED:20190611T001524Z
LAST-MODIFIED:20190611T001524Z
UID:2870-1564963200-1565395199@nclckids.org
SUMMARY:Vacation Bible Camp
DESCRIPTION:The children will be experiencing in “Roar” that God is Good. God is always with us and helps us when life is unfair\, scary\, changing\, sad\, and good. We will have opening activities in the fellowship hall with Community Chapel VBC\, divide into their normal classrooms for most of the morning\, and join Community Chapel in the Fellowship Hall for closing.
URL:https://nclckids.org/event/vacation-bible-camp/
END:VEVENT
BEGIN:VEVENT
DTSTART;VALUE=DATE:20190710
DTEND;VALUE=DATE:20190711
DTSTAMP:20260419T104806
CREATED:20190611T000904Z
LAST-MODIFIED:20190611T000904Z
UID:2862-1562716800-1562803199@nclckids.org
SUMMARY:Updated forms due for all 2019-2020 NCLC students
DESCRIPTION:
URL:https://nclckids.org/event/updated-forms-due-for-all-2019-2020-nclc-students/
END:VEVENT
BEGIN:VEVENT
DTSTART;VALUE=DATE:20190704
DTEND;VALUE=DATE:20190705
DTSTAMP:20260419T104806
CREATED:20180918T002308Z
LAST-MODIFIED:20190331T144248Z
UID:2590-1562198400-1562284799@nclckids.org
SUMMARY:Independence Day
DESCRIPTION:NCLC Closed
URL:https://nclckids.org/event/independence-day/
END:VEVENT
BEGIN:VEVENT
DTSTART;VALUE=DATE:20190617
DTEND;VALUE=DATE:20190618
DTSTAMP:20260419T104806
CREATED:20180918T002153Z
LAST-MODIFIED:20180918T002153Z
UID:2588-1560729600-1560815999@nclckids.org
SUMMARY:Summer Camp Begins
DESCRIPTION:
URL:https://nclckids.org/event/summer-camp-begins-3/
END:VEVENT
BEGIN:VEVENT
DTSTART;VALUE=DATE:20190614
DTEND;VALUE=DATE:20190615
DTSTAMP:20260419T104806
CREATED:20180918T002109Z
LAST-MODIFIED:20190310T153819Z
UID:2586-1560470400-1560556799@nclckids.org
SUMMARY:Teacher In-Service Day
DESCRIPTION:NCLC Closed
URL:https://nclckids.org/event/teacher-in-service-day/
END:VEVENT
BEGIN:VEVENT
DTSTART;VALUE=DATE:20190613
DTEND;VALUE=DATE:20190614
DTSTAMP:20260419T104806
CREATED:20180918T002002Z
LAST-MODIFIED:20180918T002002Z
UID:2584-1560384000-1560470399@nclckids.org
SUMMARY:Kindergarten Graduation/Last Day of School
DESCRIPTION:
URL:https://nclckids.org/event/kindergarten-graduation-last-day-of-school/
END:VEVENT
BEGIN:VEVENT
DTSTART;VALUE=DATE:20190607
DTEND;VALUE=DATE:20190608
DTSTAMP:20260419T104806
CREATED:20190611T000739Z
LAST-MODIFIED:20190611T000739Z
UID:2859-1559865600-1559951999@nclckids.org
SUMMARY:Pre-K/Kindergarten year-end class trip
DESCRIPTION:
URL:https://nclckids.org/event/pre-k-kindergarten-year-end-class-trip/
LOCATION:Stone Zoo in Stoneham Mass.
END:VEVENT
BEGIN:VEVENT
DTSTART;VALUE=DATE:20190527
DTEND;VALUE=DATE:20190528
DTSTAMP:20260419T104806
CREATED:20180918T001913Z
LAST-MODIFIED:20190331T144333Z
UID:2582-1558915200-1559001599@nclckids.org
SUMMARY:Memorial Day
DESCRIPTION:NCLC Closed
URL:https://nclckids.org/event/memorial-day-4/
END:VEVENT
BEGIN:VEVENT
DTSTART;VALUE=DATE:20190524
DTEND;VALUE=DATE:20190525
DTSTAMP:20260419T104806
CREATED:20190310T154118Z
LAST-MODIFIED:20190310T154118Z
UID:2741-1558656000-1558742399@nclckids.org
SUMMARY:Opt Out of Summer Program
DESCRIPTION:“‘Opt Out’ of Summer Program” fee due $150.00
URL:https://nclckids.org/event/opt-out-of-summer-program/
END:VEVENT
BEGIN:VEVENT
DTSTART;VALUE=DATE:20190516
DTEND;VALUE=DATE:20190517
DTSTAMP:20260419T104806
CREATED:20190310T154303Z
LAST-MODIFIED:20190310T154303Z
UID:2743-1557964800-1558051199@nclckids.org
SUMMARY:Chapel
DESCRIPTION:Chapel – TBA on classroom calendar (parents welcome)
URL:https://nclckids.org/event/chapel-22/
END:VEVENT
BEGIN:VEVENT
DTSTART;VALUE=DATE:20190510
DTEND;VALUE=DATE:20190511
DTSTAMP:20260419T104806
CREATED:20190310T154618Z
LAST-MODIFIED:20190310T154709Z
UID:2745-1557446400-1557532799@nclckids.org
SUMMARY:Spring Portraits
DESCRIPTION:Spring Portraits by Studio C (more info to come)
URL:https://nclckids.org/event/spring-portraits-3/
END:VEVENT
BEGIN:VEVENT
DTSTART;VALUE=DATE:20190501
DTEND;VALUE=DATE:20190502
DTSTAMP:20260419T104806
CREATED:20190310T155032Z
LAST-MODIFIED:20190310T155032Z
UID:2747-1556668800-1556755199@nclckids.org
SUMMARY:Team Magic Show
DESCRIPTION:Team Magic Show (students who do not attend NCLC on Wednesdays are welcome to attend with a parent or guardian)
URL:https://nclckids.org/event/team-magic-show-2/
END:VEVENT
BEGIN:VEVENT
DTSTART;VALUE=DATE:20190422
DTEND;VALUE=DATE:20190427
DTSTAMP:20260419T104806
CREATED:20180918T001742Z
LAST-MODIFIED:20180918T001742Z
UID:2580-1555891200-1556323199@nclckids.org
SUMMARY:Spring Vacation
DESCRIPTION:No Classes; Child Care Only
URL:https://nclckids.org/event/spring-vacation-7/
END:VEVENT
BEGIN:VEVENT
DTSTART;TZID=America/New_York:20190421T100000
DTEND;TZID=America/New_York:20190421T120000
DTSTAMP:20260419T104806
CREATED:20190202T235638Z
LAST-MODIFIED:20190310T161230Z
UID:2722-1555840800-1555848000@nclckids.org
SUMMARY:Easter Sunday Service
DESCRIPTION:
URL:https://nclckids.org/event/easter-sunday-service-2/
LOCATION:Nashua High North\, 8 Titan Way\, Nashua\, NH\, 03063\, United States
END:VEVENT
BEGIN:VEVENT
DTSTART;TZID=America/New_York:20190420T090000
DTEND;TZID=America/New_York:20190420T103000
DTSTAMP:20260419T104806
CREATED:20190310T160841Z
LAST-MODIFIED:20190310T160841Z
UID:2762-1555750800-1555756200@nclckids.org
SUMMARY:Prayer Walk
DESCRIPTION:Prayer Walk\, Saturday\, April 20th – 9am at Nashua High School North
URL:https://nclckids.org/event/prayer-walk-2/
LOCATION:Nashua High North\, 8 Titan Way\, Nashua\, NH\, 03063\, United States
END:VEVENT
END:VCALENDAR