BEGIN:VCALENDAR
VERSION:2.0
PRODID:-//Nashua Child Learning Center - ECPv6.15.20//NONSGML v1.0//EN
CALSCALE:GREGORIAN
METHOD:PUBLISH
X-ORIGINAL-URL:https://nclckids.org
X-WR-CALDESC:Events for Nashua Child Learning Center
REFRESH-INTERVAL;VALUE=DURATION:PT1H
X-Robots-Tag:noindex
X-PUBLISHED-TTL:PT1H
BEGIN:VTIMEZONE
TZID:America/New_York
BEGIN:DAYLIGHT
TZOFFSETFROM:-0500
TZOFFSETTO:-0400
TZNAME:EDT
DTSTART:20170312T070000
END:DAYLIGHT
BEGIN:STANDARD
TZOFFSETFROM:-0400
TZOFFSETTO:-0500
TZNAME:EST
DTSTART:20171105T060000
END:STANDARD
BEGIN:DAYLIGHT
TZOFFSETFROM:-0500
TZOFFSETTO:-0400
TZNAME:EDT
DTSTART:20180311T070000
END:DAYLIGHT
BEGIN:STANDARD
TZOFFSETFROM:-0400
TZOFFSETTO:-0500
TZNAME:EST
DTSTART:20181104T060000
END:STANDARD
BEGIN:DAYLIGHT
TZOFFSETFROM:-0500
TZOFFSETTO:-0400
TZNAME:EDT
DTSTART:20190310T070000
END:DAYLIGHT
BEGIN:STANDARD
TZOFFSETFROM:-0400
TZOFFSETTO:-0500
TZNAME:EST
DTSTART:20191103T060000
END:STANDARD
BEGIN:DAYLIGHT
TZOFFSETFROM:-0500
TZOFFSETTO:-0400
TZNAME:EDT
DTSTART:20200308T070000
END:DAYLIGHT
BEGIN:STANDARD
TZOFFSETFROM:-0400
TZOFFSETTO:-0500
TZNAME:EST
DTSTART:20201101T060000
END:STANDARD
END:VTIMEZONE
BEGIN:VEVENT
DTSTART;VALUE=DATE:20190613
DTEND;VALUE=DATE:20190614
DTSTAMP:20260419T142238
CREATED:20180918T002002Z
LAST-MODIFIED:20180918T002002Z
UID:2584-1560384000-1560470399@nclckids.org
SUMMARY:Kindergarten Graduation/Last Day of School
DESCRIPTION:
URL:https://nclckids.org/event/kindergarten-graduation-last-day-of-school/
END:VEVENT
BEGIN:VEVENT
DTSTART;VALUE=DATE:20190607
DTEND;VALUE=DATE:20190608
DTSTAMP:20260419T142238
CREATED:20190611T000739Z
LAST-MODIFIED:20190611T000739Z
UID:2859-1559865600-1559951999@nclckids.org
SUMMARY:Pre-K/Kindergarten year-end class trip
DESCRIPTION:
URL:https://nclckids.org/event/pre-k-kindergarten-year-end-class-trip/
LOCATION:Stone Zoo in Stoneham Mass.
END:VEVENT
BEGIN:VEVENT
DTSTART;VALUE=DATE:20190527
DTEND;VALUE=DATE:20190528
DTSTAMP:20260419T142238
CREATED:20180918T001913Z
LAST-MODIFIED:20190331T144333Z
UID:2582-1558915200-1559001599@nclckids.org
SUMMARY:Memorial Day
DESCRIPTION:NCLC Closed
URL:https://nclckids.org/event/memorial-day-4/
END:VEVENT
BEGIN:VEVENT
DTSTART;VALUE=DATE:20190524
DTEND;VALUE=DATE:20190525
DTSTAMP:20260419T142238
CREATED:20190310T154118Z
LAST-MODIFIED:20190310T154118Z
UID:2741-1558656000-1558742399@nclckids.org
SUMMARY:Opt Out of Summer Program
DESCRIPTION:“‘Opt Out’ of Summer Program” fee due $150.00
URL:https://nclckids.org/event/opt-out-of-summer-program/
END:VEVENT
BEGIN:VEVENT
DTSTART;VALUE=DATE:20190516
DTEND;VALUE=DATE:20190517
DTSTAMP:20260419T142238
CREATED:20190310T154303Z
LAST-MODIFIED:20190310T154303Z
UID:2743-1557964800-1558051199@nclckids.org
SUMMARY:Chapel
DESCRIPTION:Chapel – TBA on classroom calendar (parents welcome)
URL:https://nclckids.org/event/chapel-22/
END:VEVENT
BEGIN:VEVENT
DTSTART;VALUE=DATE:20190510
DTEND;VALUE=DATE:20190511
DTSTAMP:20260419T142238
CREATED:20190310T154618Z
LAST-MODIFIED:20190310T154709Z
UID:2745-1557446400-1557532799@nclckids.org
SUMMARY:Spring Portraits
DESCRIPTION:Spring Portraits by Studio C (more info to come)
URL:https://nclckids.org/event/spring-portraits-3/
END:VEVENT
BEGIN:VEVENT
DTSTART;VALUE=DATE:20190501
DTEND;VALUE=DATE:20190502
DTSTAMP:20260419T142238
CREATED:20190310T155032Z
LAST-MODIFIED:20190310T155032Z
UID:2747-1556668800-1556755199@nclckids.org
SUMMARY:Team Magic Show
DESCRIPTION:Team Magic Show (students who do not attend NCLC on Wednesdays are welcome to attend with a parent or guardian)
URL:https://nclckids.org/event/team-magic-show-2/
END:VEVENT
BEGIN:VEVENT
DTSTART;VALUE=DATE:20190422
DTEND;VALUE=DATE:20190427
DTSTAMP:20260419T142238
CREATED:20180918T001742Z
LAST-MODIFIED:20180918T001742Z
UID:2580-1555891200-1556323199@nclckids.org
SUMMARY:Spring Vacation
DESCRIPTION:No Classes; Child Care Only
URL:https://nclckids.org/event/spring-vacation-7/
END:VEVENT
BEGIN:VEVENT
DTSTART;TZID=America/New_York:20190421T100000
DTEND;TZID=America/New_York:20190421T120000
DTSTAMP:20260419T142238
CREATED:20190202T235638Z
LAST-MODIFIED:20190310T161230Z
UID:2722-1555840800-1555848000@nclckids.org
SUMMARY:Easter Sunday Service
DESCRIPTION:
URL:https://nclckids.org/event/easter-sunday-service-2/
LOCATION:Nashua High North\, 8 Titan Way\, Nashua\, NH\, 03063\, United States
END:VEVENT
BEGIN:VEVENT
DTSTART;TZID=America/New_York:20190420T090000
DTEND;TZID=America/New_York:20190420T103000
DTSTAMP:20260419T142238
CREATED:20190310T160841Z
LAST-MODIFIED:20190310T160841Z
UID:2762-1555750800-1555756200@nclckids.org
SUMMARY:Prayer Walk
DESCRIPTION:Prayer Walk\, Saturday\, April 20th – 9am at Nashua High School North
URL:https://nclckids.org/event/prayer-walk-2/
LOCATION:Nashua High North\, 8 Titan Way\, Nashua\, NH\, 03063\, United States
END:VEVENT
BEGIN:VEVENT
DTSTART;TZID=America/New_York:20190419T120000
DTEND;TZID=America/New_York:20190419T130000
DTSTAMP:20260419T142238
CREATED:20190202T235539Z
LAST-MODIFIED:20190310T160651Z
UID:2720-1555675200-1555678800@nclckids.org
SUMMARY:Good Friday Meditations
DESCRIPTION:Good Friday Meditations\, April 19th – Service at 12:00 noon in the Fellowship Hall
URL:https://nclckids.org/event/good-friday-service-2/
LOCATION:Fellowship Hall
END:VEVENT
BEGIN:VEVENT
DTSTART;TZID=America/New_York:20190418T183000
DTEND;TZID=America/New_York:20190418T203000
DTSTAMP:20260419T142238
CREATED:20190202T235449Z
LAST-MODIFIED:20190331T144743Z
UID:2718-1555612200-1555619400@nclckids.org
SUMMARY:Maundy Thursday Service and Family Dinner
DESCRIPTION:Service and Family Dinner at 6:30 in the Fellowship Hall
URL:https://nclckids.org/event/maundy-thursday-service-3/
LOCATION:Fellowship Hall
END:VEVENT
BEGIN:VEVENT
DTSTART;VALUE=DATE:20190414
DTEND;VALUE=DATE:20190415
DTSTAMP:20260419T142238
CREATED:20190310T160203Z
LAST-MODIFIED:20190310T160203Z
UID:2757-1555200000-1555286399@nclckids.org
SUMMARY:Palm Sunday services
DESCRIPTION:Services at 9am and 10:30am with classes for children at the same times
URL:https://nclckids.org/event/palm-sunday-services-2/
END:VEVENT
BEGIN:VEVENT
DTSTART;TZID=America/New_York:20190413T090000
DTEND;TZID=America/New_York:20190413T110000
DTSTAMP:20260419T142238
CREATED:20190331T144630Z
LAST-MODIFIED:20190331T144630Z
UID:2806-1555146000-1555153200@nclckids.org
SUMMARY:Easter Egg Hunt
DESCRIPTION:Toddlers through 5th grade welcome
URL:https://nclckids.org/event/easter-egg-hunt-2/
END:VEVENT
BEGIN:VEVENT
DTSTART;VALUE=DATE:20190410
DTEND;VALUE=DATE:20190411
DTSTAMP:20260419T142238
CREATED:20190310T155257Z
LAST-MODIFIED:20190310T155257Z
UID:2749-1554854400-1554940799@nclckids.org
SUMMARY:Chapel
DESCRIPTION:Chapel – TBA on classroom calendar (parents welcome)
URL:https://nclckids.org/event/chapel-23/
END:VEVENT
BEGIN:VEVENT
DTSTART;VALUE=DATE:20190322
DTEND;VALUE=DATE:20190323
DTSTAMP:20260419T142238
CREATED:20190310T155944Z
LAST-MODIFIED:20190310T155944Z
UID:2755-1553212800-1553299199@nclckids.org
SUMMARY:Operation KidSight vision screening day
DESCRIPTION:Operation KidSight vision screening day
URL:https://nclckids.org/event/operation-kidsight-vision-screening-day/
END:VEVENT
BEGIN:VEVENT
DTSTART;VALUE=DATE:20190318
DTEND;VALUE=DATE:20190320
DTSTAMP:20260419T142238
CREATED:20190310T155421Z
LAST-MODIFIED:20190310T155421Z
UID:2751-1552867200-1553039999@nclckids.org
SUMMARY:Spring Fundraiser Orders Due
DESCRIPTION:
URL:https://nclckids.org/event/spring-fundraiser-orders-due-4/
END:VEVENT
BEGIN:VEVENT
DTSTART;VALUE=DATE:20190311
DTEND;VALUE=DATE:20190316
DTSTAMP:20260419T142238
CREATED:20180918T001554Z
LAST-MODIFIED:20180918T001554Z
UID:2578-1552262400-1552694399@nclckids.org
SUMMARY:Summer Registration
DESCRIPTION:
URL:https://nclckids.org/event/summer-registration-6/
END:VEVENT
BEGIN:VEVENT
DTSTART;VALUE=DATE:20190225
DTEND;VALUE=DATE:20190302
DTSTAMP:20260419T142238
CREATED:20180918T001451Z
LAST-MODIFIED:20180918T001451Z
UID:2576-1551052800-1551484799@nclckids.org
SUMMARY:Winter Vacation
DESCRIPTION:No Classes; Child Care Only
URL:https://nclckids.org/event/winter-vacation/
END:VEVENT
BEGIN:VEVENT
DTSTART;TZID=America/New_York:20190220T100000
DTEND;TZID=America/New_York:20190220T103000
DTSTAMP:20260419T142238
CREATED:20190112T171921Z
LAST-MODIFIED:20190112T171921Z
UID:2687-1550656800-1550658600@nclckids.org
SUMMARY:Chapel
DESCRIPTION:
URL:https://nclckids.org/event/chapel-21/
LOCATION:Fellowship Hall
END:VEVENT
BEGIN:VEVENT
DTSTART;TZID=America/New_York:20190220T093000
DTEND;TZID=America/New_York:20190220T100000
DTSTAMP:20260419T142238
CREATED:20190112T171812Z
LAST-MODIFIED:20190112T171812Z
UID:2685-1550655000-1550656800@nclckids.org
SUMMARY:Chapel
DESCRIPTION:
URL:https://nclckids.org/event/chapel-20/
LOCATION:Fellowship Hall
END:VEVENT
BEGIN:VEVENT
DTSTART;VALUE=DATE:20190206
DTEND;VALUE=DATE:20190207
DTSTAMP:20260419T142238
CREATED:20190202T234918Z
LAST-MODIFIED:20190202T234918Z
UID:2713-1549411200-1549497599@nclckids.org
SUMMARY:Nashua Dentistry for Children - Presentation on Dental health
DESCRIPTION:Nashua Dentistry for Children
URL:https://nclckids.org/event/nashua-dentistry-for-children-presentation-on-dental-health/
END:VEVENT
BEGIN:VEVENT
DTSTART;VALUE=DATE:20190107
DTEND;VALUE=DATE:20190112
DTSTAMP:20260419T142238
CREATED:20180918T001307Z
LAST-MODIFIED:20180918T001307Z
UID:2574-1546819200-1547251199@nclckids.org
SUMMARY:Re-Registration for 2019-2020 School Year
DESCRIPTION:
URL:https://nclckids.org/event/re-registration-for-2019-2020-school-year/
END:VEVENT
BEGIN:VEVENT
DTSTART;TZID=America/New_York:20190103T180000
DTEND;TZID=America/New_York:20190103T190000
DTSTAMP:20260419T142238
CREATED:20181202T214656Z
LAST-MODIFIED:20181202T214656Z
UID:2666-1546538400-1546542000@nclckids.org
SUMMARY:"A Walk Through Progressive PreK"
DESCRIPTION:Parent/Student Information Night\nProgressive Pre-K is a transitional kindergarten program designed for students who may not be socially\, and/or academically ready for entry into Kindergarten\, although they are age eligible. This program gives children the “gift of time” to build the necessary social and academic skills for success throughout their school experience. Come and see why Progressive Pre-K is a win-win for children\, families and schools! \n\nWhere: Nashua Child Learning Center Progressive Pre-K Classroom: Room #209\nWhen: January 3\, 2019 @ 6:00pm-7:00 (Snow Date: 1/10/18)
URL:https://nclckids.org/event/a-walk-through-progressive-prek/
END:VEVENT
BEGIN:VEVENT
DTSTART;TZID=America/New_York:20190103T180000
DTEND;TZID=America/New_York:20190103T190000
DTSTAMP:20260419T142238
CREATED:20181202T214520Z
LAST-MODIFIED:20181202T214812Z
UID:2664-1546538400-1546542000@nclckids.org
SUMMARY:"A Walk Through Kindergarten"
DESCRIPTION:Parent/Student Information Night\nParents and their children entering kindergarten for the 2019-2020 school year are invited and encouraged to attend “A Walk Through Kindergarten” to learn about the curriculum and expectations of our program. Come and see why our program gets rave reviews from the 1st grade teachers in the public school system! \nPRIVATE VS PUBLIC? It’s a given that tuition is one of the main differences between public and private school but there are many other important factors affecting Private versus Public school decisions. \n\nWhere: Nashua Child Learning Center Kindergarten Classroom: Room #208\nWhen: January 3\, 2019 @ 6:00pm-7:00 (Snow Date: January 10\, 2019)
URL:https://nclckids.org/event/a-walk-through-kindergarten/
END:VEVENT
BEGIN:VEVENT
DTSTART;VALUE=DATE:20190102
DTEND;VALUE=DATE:20190103
DTSTAMP:20260419T142238
CREATED:20180918T001138Z
LAST-MODIFIED:20180918T001138Z
UID:2572-1546387200-1546473599@nclckids.org
SUMMARY:Classes Resume
DESCRIPTION:
URL:https://nclckids.org/event/classes-resume/
END:VEVENT
BEGIN:VEVENT
DTSTART;VALUE=DATE:20190101
DTEND;VALUE=DATE:20190102
DTSTAMP:20260419T142238
CREATED:20180918T001051Z
LAST-MODIFIED:20180918T001051Z
UID:2570-1546300800-1546387199@nclckids.org
SUMMARY:NEW YEAR’S DAY
DESCRIPTION:NCLC Closed
URL:https://nclckids.org/event/new-years-day/
END:VEVENT
BEGIN:VEVENT
DTSTART;VALUE=DATE:20181226
DTEND;VALUE=DATE:20190101
DTSTAMP:20260419T142238
CREATED:20180918T000936Z
LAST-MODIFIED:20180918T000936Z
UID:2568-1545782400-1546300799@nclckids.org
SUMMARY:Christmas Vacation
DESCRIPTION:No Classes; Child Care Only
URL:https://nclckids.org/event/christmas-vacation-2/
END:VEVENT
BEGIN:VEVENT
DTSTART;VALUE=DATE:20181224
DTEND;VALUE=DATE:20181226
DTSTAMP:20260419T142238
CREATED:20180918T000758Z
LAST-MODIFIED:20180918T000821Z
UID:2565-1545609600-1545782399@nclckids.org
SUMMARY:CHRISTMAS RECESS
DESCRIPTION:NCLC Closed
URL:https://nclckids.org/event/christmas-recess-5/
END:VEVENT
BEGIN:VEVENT
DTSTART;VALUE=DATE:20181221
DTEND;VALUE=DATE:20181222
DTSTAMP:20260419T142238
CREATED:20180918T000659Z
LAST-MODIFIED:20180918T000659Z
UID:2563-1545350400-1545436799@nclckids.org
SUMMARY:Last Day of Classes
DESCRIPTION:
URL:https://nclckids.org/event/last-day-of-classes/
END:VEVENT
END:VCALENDAR